BEGIN:VCALENDAR
PRODID:NingEventWidget-v1
VERSION:2.0
METHOD:PUBLISH
BEGIN:VTIMEZONE
TZID:America/New_York
X-LIC-LOCATION:America/New_York
BEGIN:DAYLIGHT
TZOFFSETFROM:-0500
TZOFFSETTO:-0400
TZNAME:EDT
DTSTART:19700308T020000
RRULE:FREQ=YEARLY;BYMONTH=3;BYDAY=2SU
END:DAYLIGHT
BEGIN:STANDARD
TZOFFSETFROM:-0400
TZOFFSETTO:-0500
TZNAME:EST
DTSTART:19701101T020000
RRULE:FREQ=YEARLY;BYMONTH=11;BYDAY=1SU
END:STANDARD
END:VTIMEZONE
BEGIN:VEVENT
UID:2140535:Event:457738
DTSTAMP:20260422T234719Z
SUMMARY:Being as a Human Resource Strategic Business Partner
DESCRIPTION:Overview\n\nThe role of the HR business partner is more im
 portant than ever, now that there are more demands on HR to add value.
  And more leaders are realizing that by making better use of their emp
 loyees, they can better achieve the profitability goals of the busines
 s.\nIn addition, more of the transactional HR work is being outsourced
 , so HR is not only able to focus more on the strategic side of the bu
 siness, but is also being asked to make a strategic contribution and d
 evelop people strategies that clearly add value to bottom-line results
 . This is the role of the human resources business partner.\nA strateg
 ic HR business partner works closely with other business leaders influ
 encing strategy, steering its implementation, and making the best use 
 of the organization's people. The HR business partnerrole is more of a
  consultative role. Human resource business partners have clients with
 in the organization to whom they provide services and build relationsh
 ips focused on the vision and objectives of the organization with much
  less focus on compliance and administration.\n\nFor more information 
 visit https://medtechiq.ning.com/events/being-as-a-human-resource-stra
 tegic-business-partner-1
DTSTART;TZID=America/New_York:20210301T100000
DTEND;TZID=America/New_York:20210301T110000
CATEGORIES:online, event
LOCATION:Online Event
WEBSITE:https://www.traininng.com/webinar/being-as-a-human-resource-st
 rategic-business-partner-202071live
URL:https://www.traininng.com/webinar/being-as-a-human-resource-strate
 gic-business-partner-202071live
CONTACT:5109628903
ORGANIZER;CN="Joseph Wilcox":https://medtechiq.ning.com/profile/Joseph
 Wilcox
ATTACH;FMTTYPE="image/jpeg":
ATTENDEE;ROLE=REQ-PARTICIPANT;PARTSTAT=ACCEPTED;RSVP=TRUE;CN="Joseph W
 ilcox":https://medtechiq.ning.com/profile/JosephWilcox
END:VEVENT
END:VCALENDAR
