BEGIN:VCALENDAR
PRODID:NingEventWidget-v1
VERSION:2.0
METHOD:PUBLISH
BEGIN:VTIMEZONE
TZID:America/New_York
X-LIC-LOCATION:America/New_York
BEGIN:DAYLIGHT
TZOFFSETFROM:-0500
TZOFFSETTO:-0400
TZNAME:EDT
DTSTART:19700308T020000
RRULE:FREQ=YEARLY;BYMONTH=3;BYDAY=2SU
END:DAYLIGHT
BEGIN:STANDARD
TZOFFSETFROM:-0400
TZOFFSETTO:-0500
TZNAME:EST
DTSTART:19701101T020000
RRULE:FREQ=YEARLY;BYMONTH=11;BYDAY=1SU
END:STANDARD
END:VTIMEZONE
BEGIN:VEVENT
UID:2140535:Event:346686
DTSTAMP:20260421T121627Z
SUMMARY:Compensation Arrangements With Rockstar Physicians: Key Stark 
 Law and Fair Market Value Considerations
DESCRIPTION:Overview:\nIn this webinar session Mr. Wolfe will discuss 
 the technical requirements of the Stark Law as it applies to physician
 s.\n He will discuss best practices for negotiating and drafting cont
 racts and compensation plans, including common provisions and potentia
 l pitfalls to avoid.\nWhy you should Attend:\nSeveral recent cases and
  settlements involving employed physicians have helped to illustrate t
 he importance of Stark Law compliance. As health care organizations en
 ter into arrangements with physician rockstars that generate higher le
 vels of compensation they should also follow processes and procedures 
 that will help manage risk.\n\nFor more information visit https://medt
 echiq.ning.com/events/compensation-arrangements-with-rockstar-physicia
 ns-key-stark-law
DTSTART;TZID=America/New_York:20200701T110000
DTEND;TZID=America/New_York:20200701T120000
CATEGORIES:online, event
LOCATION:Online event
WEBSITE:https://www.globalcompliancepanel.com/webinar//602284LIVE?medt
 echiq-SEO
URL:https://www.globalcompliancepanel.com/webinar//602284LIVE?medtechi
 q-SEO
CONTACT:8004479407
ORGANIZER:Globalcompliancepanel
ATTACH;FMTTYPE="image/jpeg":
ATTENDEE;ROLE=REQ-PARTICIPANT;PARTSTAT=ACCEPTED;RSVP=TRUE;CN="John Rob
 inson":https://medtechiq.ning.com/profile/JohnRobinson
END:VEVENT
END:VCALENDAR
