BEGIN:VCALENDAR
PRODID:NingEventWidget-v1
VERSION:2.0
METHOD:PUBLISH
BEGIN:VTIMEZONE
TZID:America/New_York
X-LIC-LOCATION:America/New_York
BEGIN:DAYLIGHT
TZOFFSETFROM:-0500
TZOFFSETTO:-0400
TZNAME:EDT
DTSTART:19700308T020000
RRULE:FREQ=YEARLY;BYMONTH=3;BYDAY=2SU
END:DAYLIGHT
BEGIN:STANDARD
TZOFFSETFROM:-0400
TZOFFSETTO:-0500
TZNAME:EST
DTSTART:19701101T020000
RRULE:FREQ=YEARLY;BYMONTH=11;BYDAY=1SU
END:STANDARD
END:VTIMEZONE
BEGIN:VEVENT
UID:2140535:Event:205960
DTSTAMP:20260422T122632Z
SUMMARY:The Code of Ethics and its impact on the PMP exam
DESCRIPTION:Topic : The Code of Ethics and its impact on the PMP examR
 egister : https://attendee.gotowebinar.com/register/801810648444152654
 1Description : The PMI code of ethics shapes the PMP exam and the resp
 onses on its questions. Everyone applying for the exam commits to this
  code. Why? How does it shape the questions and the exam? Can we use t
 his code of ethics and its knowledge to understand the PMP exam and ga
 in confidence in gaining our PMP? Tim Jerome will lead us in this thou
 ght-provoking discussion to further help us understand the value of th
 e PMP, the reason for the Exam, and how it and the code supports our p
 rofessional and life plans.Contact Info :Ijona Academyhttps://www.ijon
 aacademy.comEmail : support@ijonaacademy.comPhone : +1 302-828-0033\n\
 nFor more information visit https://medtechiq.ning.com/events/the-code
 -of-ethics-and-its-impact-on-the-pmp-exam
DTSTART;TZID=America/New_York:20191019T210000
DTEND;TZID=America/New_York:20191019T220000
CATEGORIES:webinar
LOCATION:Online Event
WEBSITE:https://www.ijonaacademy.com
URL:https://www.ijonaacademy.com
CONTACT:3028280033
ORGANIZER:Mouli Sarkar
ATTACH;FMTTYPE="image/jpeg":https://storage.ning.com/topology/rest/1.0
 /file/get/3667820622?profile=original
ATTENDEE;ROLE=REQ-PARTICIPANT;PARTSTAT=ACCEPTED;RSVP=TRUE;CN="Lakshmi 
 Narayana":https://medtechiq.ning.com/profile/LakshmiNarayana
END:VEVENT
END:VCALENDAR
